BEGIN:VCALENDAR
VERSION:2.0
PRODID:-//Statewide Towing Association Inc. - ECPv6.12.0.1//NONSGML v1.0//EN
CALSCALE:GREGORIAN
METHOD:PUBLISH
X-ORIGINAL-URL:https://statewidetowing.org
X-WR-CALDESC:Events for Statewide Towing Association Inc.
REFRESH-INTERVAL;VALUE=DURATION:PT1H
X-Robots-Tag:noindex
X-PUBLISHED-TTL:PT1H
BEGIN:VTIMEZONE
TZID:UTC
BEGIN:STANDARD
TZOFFSETFROM:+0000
TZOFFSETTO:+0000
TZNAME:UTC
DTSTART:20170101T000000
END:STANDARD
END:VTIMEZONE
BEGIN:VEVENT
DTSTART;TZID=UTC:20191018T140000
DTEND;TZID=UTC:20191018T220000
DTSTAMP:20260420T232916
CREATED:20191003T191817Z
LAST-MODIFIED:20191003T191817Z
UID:13664-1571407200-1571436000@statewidetowing.org
SUMMARY:Heavy Duty Towing & Recovery Training w/Tom Luciano
DESCRIPTION:Massachusetts State Police\nApproved Training Course \nThis course will focus on many different aspects of towing including rollovers\, recoveries\, quicker/safer methods and new ideas from across the country as well as certification and much more! \n*Please note: This course is a prerequisite for the Ultra Heavy Duty Recovery certification.  \nStudent MUST come prepared with paper and pen\nfor taking notes and gloves for the\nhands-on portion of the class. \nOct. 18 & 19\, 2019\nFriday\, 2:00 –  10:00 PM\nSaturday\, 8:00 AM to 5:00 PM\nWinn Street Sales\n9 Wall Street Burlington\, MA\nTo register for this class\nCLICK HERE\n(Late fee of $50/student applies after Oct. 11th.)
URL:https://statewidetowing.org/event/heavy-duty-towing-recovery-training-w-tom-luciano/
LOCATION:Winn St. Sales\, 25 Wall Street\, BURLINGTON\, MA\, 01803\, United States
ORGANIZER;CN="Statewide Towing Academy%2C Inc.":MAILTO:office@statewidetowing.org
END:VEVENT
BEGIN:VEVENT
DTSTART;TZID=UTC:20181019T080000
DTEND;TZID=UTC:20181020T170000
DTSTAMP:20260420T232916
CREATED:20180330T194003Z
LAST-MODIFIED:20180330T194142Z
UID:627-1539936000-1540054800@statewidetowing.org
SUMMARY:Advance Light Duty Training and Certification  Copy
DESCRIPTION:Friday\, October 19th\, 5 to 10 PM &\nSaturday\, October 20th\, 8 AM to 4 PM\nHampshire Towing\n650 New Ludlow Road\nSouth Hadley\, MA
URL:https://statewidetowing.org/event/advance-light-duty-training-and-certification-copy/
LOCATION:MA
CATEGORIES:Training
END:VEVENT
BEGIN:VEVENT
DTSTART;TZID=UTC:20180801T080000
DTEND;TZID=UTC:20180831T170000
DTSTAMP:20260420T232916
CREATED:20180330T193545Z
LAST-MODIFIED:20180330T194048Z
UID:623-1533110400-1535734800@statewidetowing.org
SUMMARY:Advance Light Duty Training and Certification
DESCRIPTION:August 2018\nNew Hampshire Towing Association\nDates\, times and location TBD \n 
URL:https://statewidetowing.org/event/advance-light-duty-training-and-certification/
LOCATION:MA
CATEGORIES:Training
END:VEVENT
BEGIN:VEVENT
DTSTART;TZID=UTC:20180517T180000
DTEND;TZID=UTC:20180517T220000
DTSTAMP:20260420T232916
CREATED:20180330T195203Z
LAST-MODIFIED:20180330T195236Z
UID:635-1526580000-1526594400@statewidetowing.org
SUMMARY:2018 Election of Officers
DESCRIPTION:2018 Election Meeting\nMay 17th\, 2017\nLocation TBD
URL:https://statewidetowing.org/event/2018-election-of-officers/
LOCATION:MA
CATEGORIES:Main Events
END:VEVENT
BEGIN:VEVENT
DTSTART;TZID=UTC:20180427T080000
DTEND;TZID=UTC:20180428T170000
DTSTAMP:20260420T232916
CREATED:20180330T193838Z
LAST-MODIFIED:20180330T193903Z
UID:625-1524816000-1524934800@statewidetowing.org
SUMMARY:Heavy Duty Training and Certification with Tom Luciano
DESCRIPTION:Heavy Duty Training and Certification with Tom Luciano\nFriday\, April 27th\, Noon to 8 PM\nSaturday\, April 28th\, 7 AM to 4 PM\nConcord N.H. Fire Academy\n98 Smokey Bear Blvd\nConcord\, NH
URL:https://statewidetowing.org/event/heavy-duty-training-and-certification-with-tom-luciano/
LOCATION:MA
CATEGORIES:Training
END:VEVENT
BEGIN:VEVENT
DTSTART;TZID=UTC:20180426T173000
DTEND;TZID=UTC:20180426T220000
DTSTAMP:20260420T232916
CREATED:20180330T192645Z
LAST-MODIFIED:20180330T193342Z
UID:613-1524763800-1524780000@statewidetowing.org
SUMMARY:Heavy Duty and Advanced Heavy Duty RECERTIFICATION with Tom Luciano
DESCRIPTION:Thursday April 26th at 5:30 pm \nWinn Street Sales \n25 Wall Street \nBurlington\, MA \n 
URL:https://statewidetowing.org/event/heavy-duty-and-advanced-heavy-duty-recertification-with-tom-luciano/
LOCATION:Winn St. Sales\, 25 Wall Street\, BURLINGTON\, MA\, 01803\, United States
CATEGORIES:Training
END:VEVENT
BEGIN:VEVENT
DTSTART;TZID=UTC:20180420T080000
DTEND;TZID=UTC:20180421T170000
DTSTAMP:20260420T232916
CREATED:20180330T194106Z
LAST-MODIFIED:20180330T194220Z
UID:629-1524211200-1524330000@statewidetowing.org
SUMMARY:Advance Light Duty Training and Certification  Copy  Copy
DESCRIPTION:Friday\, April 20th 5 to 10 PM &\nSaturday\, April 21st\, 8 AM to 4 PM\nWinn Street Sales\n25 Wall Street\nBurlington\, MA
URL:https://statewidetowing.org/event/advance-light-duty-training-and-certification-copy-copy/
LOCATION:MA
CATEGORIES:Training
END:VEVENT
BEGIN:VEVENT
DTSTART;TZID=UTC:20171012T000000
DTEND;TZID=UTC:20171012T235900
DTSTAMP:20260420T232916
CREATED:20171006T201043Z
LAST-MODIFIED:20171012T105137Z
UID:429-1507766400-1507852740@statewidetowing.org
SUMMARY:Cooperative TIMS Training & Live Scenario
DESCRIPTION:Cooperative TIMS Training & Live Scenario with MassDOT & MSP CMV at Westover Airport\, Chicopee\, MA
URL:https://statewidetowing.org/event/cooperative-tims-training-live-scenario/
LOCATION:Westover Airport\, 255 Padgette St\, Chicopee\, MA\, 01022
CATEGORIES:Training
END:VEVENT
BEGIN:VEVENT
DTSTART;TZID=UTC:20170504T183000
DTEND;TZID=UTC:20170504T213000
DTSTAMP:20260420T232916
CREATED:20170526T174049Z
LAST-MODIFIED:20170526T174051Z
UID:399-1493922600-1493933400@statewidetowing.org
SUMMARY:ELECTION MEETING
DESCRIPTION:ELECTION MEETING – May 4th\, 6:30PM  \n\nElection Meeting will be held at Calabria Ristorante\, 7 S. Main St.\, Millbury\, MA\nTo register\, CLICK HERE\n\nBALLOT \n\nPresident (2 yr. term) – Bill Johnson\nTreasurer (2 yr. term) – Peter Aspesi\nNortheast Director (2 yr. term) (Vote for One) – Harold Trombly or Pat Todisco\nSoutheast Director (2 yr. term) – Ron Phillips\nWest Director (2 yr. term) – Brian Fournier\nCentral Director (2 yr. term) – Michael Aspesi\n\nNominations will be accepted from the floor.
URL:https://statewidetowing.org/event/election-meeting/
LOCATION:Calabria Ristorante\, 7 S. Main Street\, Millbury\, MA\, 01527\, United States
END:VEVENT
END:VCALENDAR